BEGIN:VCALENDAR
VERSION:2.0
PRODID:-//Hall School Wimbledon - ECPv6.0.13.1//NONSGML v1.0//EN
CALSCALE:GREGORIAN
METHOD:PUBLISH
X-ORIGINAL-URL:https://hsw.co.uk
X-WR-CALDESC:Events for Hall School Wimbledon
REFRESH-INTERVAL;VALUE=DURATION:PT1H
X-Robots-Tag:noindex
X-PUBLISHED-TTL:PT1H
BEGIN:VTIMEZONE
TZID:Europe/London
BEGIN:DAYLIGHT
TZOFFSETFROM:+0000
TZOFFSETTO:+0100
TZNAME:BST
DTSTART:20240331T010000
END:DAYLIGHT
BEGIN:STANDARD
TZOFFSETFROM:+0100
TZOFFSETTO:+0000
TZNAME:GMT
DTSTART:20241027T010000
END:STANDARD
END:VTIMEZONE
BEGIN:VEVENT
DTSTART;VALUE=DATE:20241211
DTEND;VALUE=DATE:20241212
DTSTAMP:20260421T172234
CREATED:20241129T153912Z
LAST-MODIFIED:20241129T153912Z
UID:5989-1733875200-1733961599@hsw.co.uk
SUMMARY:Christmas Jumper Day
DESCRIPTION:Students to bring in £1 to donate to Save the Children.
URL:https://hsw.co.uk/event/christmas-jumper-day/
CATEGORIES:Whole School
END:VEVENT
BEGIN:VEVENT
DTSTART;TZID=Europe/London:20241211T120000
DTEND;TZID=Europe/London:20241211T133000
DTSTAMP:20260421T172234
CREATED:20241129T154030Z
LAST-MODIFIED:20241129T154030Z
UID:5991-1733918400-1733923800@hsw.co.uk
SUMMARY:Christmas Lunch
DESCRIPTION:
URL:https://hsw.co.uk/event/christmas-lunch/
CATEGORIES:Whole School
END:VEVENT
BEGIN:VEVENT
DTSTART;TZID=Europe/London:20241211T170000
DTEND;TZID=Europe/London:20241211T180000
DTSTAMP:20260421T172234
CREATED:20241015T122530Z
LAST-MODIFIED:20241108T133104Z
UID:5593-1733936400-1733940000@hsw.co.uk
SUMMARY:Christmas Variety Show
DESCRIPTION:Held at the Oberon Pavilion\, 15 Lindisfarne Road\, London\, SW20 0NW. \nThe show will last approximately an hour and will be followed by festive refreshments. \nPupils performing will rehearse at the Pavilion during the afternoon.
URL:https://hsw.co.uk/event/christmas-variety-show/
CATEGORIES:Whole School
END:VEVENT
END:VCALENDAR