BEGIN:VCALENDAR
VERSION:2.0
PRODID:-//Hall School Wimbledon - ECPv6.0.13.1//NONSGML v1.0//EN
CALSCALE:GREGORIAN
METHOD:PUBLISH
X-WR-CALNAME:Hall School Wimbledon
X-ORIGINAL-URL:https://hsw.co.uk
X-WR-CALDESC:Events for Hall School Wimbledon
REFRESH-INTERVAL;VALUE=DURATION:PT1H
X-Robots-Tag:noindex
X-PUBLISHED-TTL:PT1H
BEGIN:VTIMEZONE
TZID:Europe/London
BEGIN:DAYLIGHT
TZOFFSETFROM:+0000
TZOFFSETTO:+0100
TZNAME:BST
DTSTART:20250330T010000
END:DAYLIGHT
BEGIN:STANDARD
TZOFFSETFROM:+0100
TZOFFSETTO:+0000
TZNAME:GMT
DTSTART:20251026T010000
END:STANDARD
END:VTIMEZONE
BEGIN:VEVENT
DTSTART;TZID=Europe/London:20250128T090000
DTEND;TZID=Europe/London:20250128T120000
DTSTAMP:20260422T041550
CREATED:20240716T145609Z
LAST-MODIFIED:20240716T145609Z
UID:5409-1738054800-1738065600@hsw.co.uk
SUMMARY:Year 6 Merton Citizenship Scheme Trip
DESCRIPTION:
URL:https://hsw.co.uk/event/year-6-merton-citizenship-scheme-trip/
CATEGORIES:Junior School
END:VEVENT
END:VCALENDAR