BEGIN:VCALENDAR
VERSION:2.0
PRODID:-//Hall School Wimbledon - ECPv6.0.13.1//NONSGML v1.0//EN
CALSCALE:GREGORIAN
METHOD:PUBLISH
X-WR-CALNAME:Hall School Wimbledon
X-ORIGINAL-URL:https://hsw.co.uk
X-WR-CALDESC:Events for Hall School Wimbledon
REFRESH-INTERVAL;VALUE=DURATION:PT1H
X-Robots-Tag:noindex
X-PUBLISHED-TTL:PT1H
BEGIN:VTIMEZONE
TZID:Europe/London
BEGIN:DAYLIGHT
TZOFFSETFROM:+0000
TZOFFSETTO:+0100
TZNAME:BST
DTSTART:20250330T010000
END:DAYLIGHT
BEGIN:STANDARD
TZOFFSETFROM:+0100
TZOFFSETTO:+0000
TZNAME:GMT
DTSTART:20251026T010000
END:STANDARD
END:VTIMEZONE
BEGIN:VEVENT
DTSTART;TZID=Europe/London:20250508T090000
DTEND;TZID=Europe/London:20250508T104500
DTSTAMP:20260422T102126
CREATED:20241209T163104Z
LAST-MODIFIED:20241209T163104Z
UID:6038-1746694800-1746701100@hsw.co.uk
SUMMARY:GCSE Drama Exam
DESCRIPTION:
URL:https://hsw.co.uk/event/gcse-drama-exam/
CATEGORIES:KS4,Senior School
END:VEVENT
BEGIN:VEVENT
DTSTART;TZID=Europe/London:20250508T180000
DTEND;TZID=Europe/London:20250508T193000
DTSTAMP:20260422T102126
CREATED:20250325T112802Z
LAST-MODIFIED:20250429T122204Z
UID:6325-1746727200-1746732600@hsw.co.uk
SUMMARY:Spring Concert
DESCRIPTION:at The Grove.
URL:https://hsw.co.uk/event/spring-recital-music-concert-at-oberon/
CATEGORIES:Junior School,Senior School,Whole School
END:VEVENT
END:VCALENDAR