BEGIN:VCALENDAR
VERSION:2.0
PRODID:-//Hall School Wimbledon - ECPv6.0.13.1//NONSGML v1.0//EN
CALSCALE:GREGORIAN
METHOD:PUBLISH
X-ORIGINAL-URL:https://hsw.co.uk
X-WR-CALDESC:Events for Hall School Wimbledon
REFRESH-INTERVAL;VALUE=DURATION:PT1H
X-Robots-Tag:noindex
X-PUBLISHED-TTL:PT1H
BEGIN:VTIMEZONE
TZID:Europe/London
BEGIN:DAYLIGHT
TZOFFSETFROM:+0000
TZOFFSETTO:+0100
TZNAME:BST
DTSTART:20250330T010000
END:DAYLIGHT
BEGIN:STANDARD
TZOFFSETFROM:+0100
TZOFFSETTO:+0000
TZNAME:GMT
DTSTART:20251026T010000
END:STANDARD
END:VTIMEZONE
BEGIN:VEVENT
DTSTART;TZID=Europe/London:20251016T094500
DTEND;TZID=Europe/London:20251016T160000
DTSTAMP:20260421T161720
CREATED:20250916T123749Z
LAST-MODIFIED:20250916T123749Z
UID:7070-1760607900-1760630400@hsw.co.uk
SUMMARY:Years 10 and 11 GCSE Drama Trip
DESCRIPTION:
URL:https://hsw.co.uk/event/years-10-and-11-gcse-drama-trip/
CATEGORIES:KS4
END:VEVENT
BEGIN:VEVENT
DTSTART;TZID=Europe/London:20251016T163000
DTEND;TZID=Europe/London:20251016T183000
DTSTAMP:20260421T161720
CREATED:20250630T091329Z
LAST-MODIFIED:20251014T125349Z
UID:6786-1760632200-1760639400@hsw.co.uk
SUMMARY:KS2 Parents Evening
DESCRIPTION:Held online via SchoolCloud
URL:https://hsw.co.uk/event/ks2-parents-evening-6/
CATEGORIES:Junior School
END:VEVENT
BEGIN:VEVENT
DTSTART;TZID=Europe/London:20251016T180000
DTEND;TZID=Europe/London:20251016T190000
DTSTAMP:20260421T161720
CREATED:20251014T123711Z
LAST-MODIFIED:20251014T123711Z
UID:7113-1760637600-1760641200@hsw.co.uk
SUMMARY:Parent Workshop
DESCRIPTION:Connecting Better: Effective Communication with Your Teen\nLed by: Gary Treasure
URL:https://hsw.co.uk/event/parent-workshop/
CATEGORIES:Senior School
END:VEVENT
END:VCALENDAR