BEGIN:VCALENDAR
VERSION:2.0
PRODID:-//Hall School Wimbledon - ECPv6.0.13.1//NONSGML v1.0//EN
CALSCALE:GREGORIAN
METHOD:PUBLISH
X-ORIGINAL-URL:https://hsw.co.uk
X-WR-CALDESC:Events for Hall School Wimbledon
REFRESH-INTERVAL;VALUE=DURATION:PT1H
X-Robots-Tag:noindex
X-PUBLISHED-TTL:PT1H
BEGIN:VTIMEZONE
TZID:Europe/London
BEGIN:DAYLIGHT
TZOFFSETFROM:+0000
TZOFFSETTO:+0100
TZNAME:BST
DTSTART:20260329T010000
END:DAYLIGHT
BEGIN:STANDARD
TZOFFSETFROM:+0100
TZOFFSETTO:+0000
TZNAME:GMT
DTSTART:20261025T010000
END:STANDARD
END:VTIMEZONE
BEGIN:VEVENT
DTSTART;VALUE=DATE:20260515
DTEND;VALUE=DATE:20260620
DTSTAMP:20260420T121533
CREATED:20260415T151956Z
LAST-MODIFIED:20260415T151956Z
UID:7767-1778803200-1781913599@hsw.co.uk
SUMMARY:Year 10 Mock Exams
DESCRIPTION:Continuing
URL:https://hsw.co.uk/event/year-10-mock-exams-2/
CATEGORIES:KS4,Senior School
END:VEVENT
BEGIN:VEVENT
DTSTART;VALUE=DATE:20260515
DTEND;VALUE=DATE:20260620
DTSTAMP:20260420T121533
CREATED:20260415T152059Z
LAST-MODIFIED:20260415T152059Z
UID:7768-1778803200-1781913599@hsw.co.uk
SUMMARY:KS3 Core Subject Exams
DESCRIPTION:Continuing
URL:https://hsw.co.uk/event/ks3-core-subject-exams-2/
CATEGORIES:KS3,Senior School
END:VEVENT
BEGIN:VEVENT
DTSTART;TZID=Europe/London:20260613T093000
DTEND;TZID=Europe/London:20260613T113000
DTSTAMP:20260420T121533
CREATED:20250617T101044Z
LAST-MODIFIED:20250617T101139Z
UID:6741-1781343000-1781350200@hsw.co.uk
SUMMARY:Open Morning
DESCRIPTION:Arrival from 9.15am for a 9.30am chat or 10.15am for a 10.30 chat from the Head
URL:https://hsw.co.uk/event/open-morning-11/
CATEGORIES:Whole School
END:VEVENT
END:VCALENDAR