BEGIN:VCALENDAR
VERSION:2.0
PRODID:-//Hall School Wimbledon - ECPv6.0.13.1//NONSGML v1.0//EN
CALSCALE:GREGORIAN
METHOD:PUBLISH
X-WR-CALNAME:Hall School Wimbledon
X-ORIGINAL-URL:https://hsw.co.uk
X-WR-CALDESC:Events for Hall School Wimbledon
REFRESH-INTERVAL;VALUE=DURATION:PT1H
X-Robots-Tag:noindex
X-PUBLISHED-TTL:PT1H
BEGIN:VTIMEZONE
TZID:Europe/London
BEGIN:DAYLIGHT
TZOFFSETFROM:+0000
TZOFFSETTO:+0100
TZNAME:BST
DTSTART:20240331T010000
END:DAYLIGHT
BEGIN:STANDARD
TZOFFSETFROM:+0100
TZOFFSETTO:+0000
TZNAME:GMT
DTSTART:20241027T010000
END:STANDARD
END:VTIMEZONE
BEGIN:VEVENT
DTSTART;TZID=Europe/London:20240822T083000
DTEND;TZID=Europe/London:20240822T113000
DTSTAMP:20260422T232916
CREATED:20240716T142612Z
LAST-MODIFIED:20240716T142612Z
UID:5339-1724315400-1724326200@hsw.co.uk
SUMMARY:GCSE Results Day
DESCRIPTION:
URL:https://hsw.co.uk/event/gcse-results-day/
CATEGORIES:KS4,Senior School
END:VEVENT
BEGIN:VEVENT
DTSTART;TZID=Europe/London:20240701T090000
DTEND;TZID=Europe/London:20240705T160000
DTSTAMP:20260422T232916
CREATED:20240423T132012Z
LAST-MODIFIED:20240423T132012Z
UID:5084-1719824400-1720195200@hsw.co.uk
SUMMARY:Year 10/Year 12 Work Experience Week
DESCRIPTION:
URL:https://hsw.co.uk/event/year-10-year-12-work-experience-week/
CATEGORIES:KS4,KS5,Senior School
END:VEVENT
BEGIN:VEVENT
DTSTART;TZID=Europe/London:20240627T140000
DTEND;TZID=Europe/London:20240627T160000
DTSTAMP:20260422T232916
CREATED:20240604T091945Z
LAST-MODIFIED:20240604T091945Z
UID:5230-1719496800-1719504000@hsw.co.uk
SUMMARY:Vamos Theatre Workshop
DESCRIPTION:
URL:https://hsw.co.uk/event/vamos-theatre-workshop/
CATEGORIES:KS3,KS4,Senior School
END:VEVENT
BEGIN:VEVENT
DTSTART;TZID=Europe/London:20240624T090000
DTEND;TZID=Europe/London:20240624T160000
DTSTAMP:20260422T232916
CREATED:20240604T091515Z
LAST-MODIFIED:20240604T091515Z
UID:5224-1719219600-1719244800@hsw.co.uk
SUMMARY:Year 10 History Trip to Chalke Valley Festival
DESCRIPTION:
URL:https://hsw.co.uk/event/year-10-history-trip-to-chalke-valley-festival/
CATEGORIES:KS4,Senior School
END:VEVENT
BEGIN:VEVENT
DTSTART;TZID=Europe/London:20240619T090000
DTEND;TZID=Europe/London:20240619T110000
DTSTAMP:20260422T232916
CREATED:20240507T121806Z
LAST-MODIFIED:20240507T121806Z
UID:5126-1718787600-1718794800@hsw.co.uk
SUMMARY:GCSE Drama Devising
DESCRIPTION:
URL:https://hsw.co.uk/event/gcse-drama-devising/
CATEGORIES:KS4,Senior School
END:VEVENT
BEGIN:VEVENT
DTSTART;TZID=Europe/London:20240619T090000
DTEND;TZID=Europe/London:20240619T104500
DTSTAMP:20260422T232916
CREATED:20240117T135644Z
LAST-MODIFIED:20240119T151526Z
UID:4775-1718787600-1718793900@hsw.co.uk
SUMMARY:GCSE Further Maths Paper 2
DESCRIPTION:1hr 45
URL:https://hsw.co.uk/event/gcse-further-maths-paper-2/
CATEGORIES:KS4,Senior School
END:VEVENT
BEGIN:VEVENT
DTSTART;TZID=Europe/London:20240617T090000
DTEND;TZID=Europe/London:20240617T104500
DTSTAMP:20260422T232916
CREATED:20240117T135611Z
LAST-MODIFIED:20240119T155501Z
UID:4773-1718614800-1718621100@hsw.co.uk
SUMMARY:GCSE Music
DESCRIPTION:1hr 45
URL:https://hsw.co.uk/event/gcse-music/
CATEGORIES:KS4,Senior School
END:VEVENT
BEGIN:VEVENT
DTSTART;TZID=Europe/London:20240614T133000
DTEND;TZID=Europe/London:20240614T151500
DTSTAMP:20260422T232916
CREATED:20240117T135537Z
LAST-MODIFIED:20240119T155431Z
UID:4771-1718371800-1718378100@hsw.co.uk
SUMMARY:GCSE Physics Separate Paper 2
DESCRIPTION:1hr 45
URL:https://hsw.co.uk/event/gcse-physics-separate-paper-2/
CATEGORIES:KS4,Senior School
END:VEVENT
BEGIN:VEVENT
DTSTART;TZID=Europe/London:20240614T133000
DTEND;TZID=Europe/London:20240614T144500
DTSTAMP:20260422T232916
CREATED:20240117T135504Z
LAST-MODIFIED:20240119T115124Z
UID:4769-1718371800-1718376300@hsw.co.uk
SUMMARY:GCSE Physics Combined Paper 2
DESCRIPTION:1hr 15
URL:https://hsw.co.uk/event/gcse-physics-combined-paper-2/
CATEGORIES:KS4,Senior School
END:VEVENT
BEGIN:VEVENT
DTSTART;TZID=Europe/London:20240614T090000
DTEND;TZID=Europe/London:20240614T101500
DTSTAMP:20260422T232916
CREATED:20240117T135431Z
LAST-MODIFIED:20240119T155337Z
UID:4767-1718355600-1718360100@hsw.co.uk
SUMMARY:GCSE Geography Paper 3
DESCRIPTION:1hr 15
URL:https://hsw.co.uk/event/gcse-geography-paper-3/
CATEGORIES:KS4,Senior School
END:VEVENT
BEGIN:VEVENT
DTSTART;TZID=Europe/London:20240611T090000
DTEND;TZID=Europe/London:20240611T104500
DTSTAMP:20260422T232916
CREATED:20240117T135353Z
LAST-MODIFIED:20240119T155300Z
UID:4765-1718096400-1718102700@hsw.co.uk
SUMMARY:GCSE Further Maths Paper 1
DESCRIPTION:1hr 45
URL:https://hsw.co.uk/event/gcse-further-maths-paper-1/
CATEGORIES:KS4,Senior School
END:VEVENT
BEGIN:VEVENT
DTSTART;TZID=Europe/London:20240611T090000
DTEND;TZID=Europe/London:20240611T104500
DTSTAMP:20260422T232916
CREATED:20240117T135313Z
LAST-MODIFIED:20240119T155230Z
UID:4763-1718096400-1718102700@hsw.co.uk
SUMMARY:GCSE Chemistry Separate Paper 2
DESCRIPTION:1hr 45
URL:https://hsw.co.uk/event/gcse-chemistry-separate-paper-2/
CATEGORIES:KS4,Senior School
END:VEVENT
BEGIN:VEVENT
DTSTART;TZID=Europe/London:20240611T090000
DTEND;TZID=Europe/London:20240611T101500
DTSTAMP:20260422T232916
CREATED:20240117T135240Z
LAST-MODIFIED:20240119T155154Z
UID:4761-1718096400-1718100900@hsw.co.uk
SUMMARY:GCSE Chemistry Combined Paper 2
DESCRIPTION:1hr 15
URL:https://hsw.co.uk/event/gcse-chemistry-combined-paper-2/
CATEGORIES:KS4,Senior School
END:VEVENT
BEGIN:VEVENT
DTSTART;TZID=Europe/London:20240610T090000
DTEND;TZID=Europe/London:20240610T103000
DTSTAMP:20260422T232916
CREATED:20240117T135149Z
LAST-MODIFIED:20240117T135149Z
UID:4759-1718010000-1718015400@hsw.co.uk
SUMMARY:GCSE Maths Paper 3
DESCRIPTION:1hr 30
URL:https://hsw.co.uk/event/gcse-maths-paper-3/
CATEGORIES:KS4,Senior School
END:VEVENT
BEGIN:VEVENT
DTSTART;TZID=Europe/London:20240607T133000
DTEND;TZID=Europe/London:20240607T151500
DTSTAMP:20260422T232916
CREATED:20240117T135018Z
LAST-MODIFIED:20240119T155117Z
UID:4757-1717767000-1717773300@hsw.co.uk
SUMMARY:GCSE Biology Separate Paper 2
DESCRIPTION:1hr 45
URL:https://hsw.co.uk/event/gcse-biology-separate-paper-2/
CATEGORIES:KS4,Senior School
END:VEVENT
BEGIN:VEVENT
DTSTART;TZID=Europe/London:20240607T133000
DTEND;TZID=Europe/London:20240607T144500
DTSTAMP:20260422T232916
CREATED:20240117T134429Z
LAST-MODIFIED:20240119T155037Z
UID:4755-1717767000-1717771500@hsw.co.uk
SUMMARY:GCSE Biology Combined Paper 2
DESCRIPTION:1hr 15
URL:https://hsw.co.uk/event/gcse-biology-combined-paper-2/
CATEGORIES:KS4,Senior School
END:VEVENT
BEGIN:VEVENT
DTSTART;TZID=Europe/London:20240606T090000
DTEND;TZID=Europe/London:20240606T104500
DTSTAMP:20260422T232916
CREATED:20240117T134317Z
LAST-MODIFIED:20240119T155004Z
UID:4753-1717664400-1717670700@hsw.co.uk
SUMMARY:GCSE English Language Paper 2
DESCRIPTION:1hr 45
URL:https://hsw.co.uk/event/gcse-english-language-paper-2/
CATEGORIES:KS4,Senior School
END:VEVENT
BEGIN:VEVENT
DTSTART;TZID=Europe/London:20240605T090000
DTEND;TZID=Europe/London:20240605T103000
DTSTAMP:20260422T232916
CREATED:20240117T134232Z
LAST-MODIFIED:20240117T134232Z
UID:4751-1717578000-1717583400@hsw.co.uk
SUMMARY:GCSE Geography Paper 2
DESCRIPTION:1hr 30
URL:https://hsw.co.uk/event/gcse-geography-paper-2/
CATEGORIES:KS4,Senior School
END:VEVENT
BEGIN:VEVENT
DTSTART;TZID=Europe/London:20240603T090000
DTEND;TZID=Europe/London:20240603T103000
DTSTAMP:20260422T232916
CREATED:20240117T133605Z
LAST-MODIFIED:20240117T133605Z
UID:4747-1717405200-1717410600@hsw.co.uk
SUMMARY:GCSE Maths Paper 2
DESCRIPTION:1hr 30
URL:https://hsw.co.uk/event/gcse-maths-paper-2/
CATEGORIES:KS4,Senior School
END:VEVENT
BEGIN:VEVENT
DTSTART;TZID=Europe/London:20240603T090000
DTEND;TZID=Europe/London:20240603T101500
DTSTAMP:20260422T232916
CREATED:20240117T133658Z
LAST-MODIFIED:20240119T154510Z
UID:4749-1717405200-1717409700@hsw.co.uk
SUMMARY:GCSE Physical Education Paper 2
DESCRIPTION:1hr 15
URL:https://hsw.co.uk/event/gcse-physical-education-paper-2/
CATEGORIES:KS4,Senior School
END:VEVENT
BEGIN:VEVENT
DTSTART;VALUE=DATE:20240603
DTEND;VALUE=DATE:20240615
DTSTAMP:20260422T232916
CREATED:20240117T114307Z
LAST-MODIFIED:20240423T124819Z
UID:4674-1717372800-1718409599@hsw.co.uk
SUMMARY:Exam Weeks - KS2 and years 7-10
DESCRIPTION:
URL:https://hsw.co.uk/event/exam-week-ks2-and-years-7-10/
CATEGORIES:Junior School,KS3,KS4,Senior School
END:VEVENT
BEGIN:VEVENT
DTSTART;TZID=Europe/London:20240524T090000
DTEND;TZID=Europe/London:20240524T102000
DTSTAMP:20260422T232916
CREATED:20240117T133406Z
LAST-MODIFIED:20240119T154438Z
UID:4745-1716541200-1716546000@hsw.co.uk
SUMMARY:GCSE French Writing
DESCRIPTION:1hr 20
URL:https://hsw.co.uk/event/gcse-french-writing/
CATEGORIES:KS4,Senior School
END:VEVENT
BEGIN:VEVENT
DTSTART;TZID=Europe/London:20240523T140000
DTEND;TZID=Europe/London:20240523T150000
DTSTAMP:20260422T232916
CREATED:20240507T121901Z
LAST-MODIFIED:20240507T121901Z
UID:5128-1716472800-1716476400@hsw.co.uk
SUMMARY:Mental Health Workshop - Years 9 and 10
DESCRIPTION:
URL:https://hsw.co.uk/event/mental-health-workshop-years-9-and-10/
CATEGORIES:KS3,KS4,Senior School
END:VEVENT
BEGIN:VEVENT
DTSTART;TZID=Europe/London:20240523T090000
DTEND;TZID=Europe/London:20240523T104500
DTSTAMP:20260422T232916
CREATED:20240117T133313Z
LAST-MODIFIED:20240119T154410Z
UID:4743-1716454800-1716461100@hsw.co.uk
SUMMARY:GCSE English Language Paper 1
DESCRIPTION:1hr 45
URL:https://hsw.co.uk/event/gcse-english-language-paper-1/
CATEGORIES:KS4,Senior School
END:VEVENT
BEGIN:VEVENT
DTSTART;TZID=Europe/London:20240522T133000
DTEND;TZID=Europe/London:20240522T144500
DTSTAMP:20260422T232916
CREATED:20240117T133234Z
LAST-MODIFIED:20240119T154331Z
UID:4741-1716384600-1716389100@hsw.co.uk
SUMMARY:GCSE Physical Education Paper 1
DESCRIPTION:1hr 15
URL:https://hsw.co.uk/event/gcse-physical-education-paper-1/
CATEGORIES:KS4,Senior School
END:VEVENT
BEGIN:VEVENT
DTSTART;TZID=Europe/London:20240522T123000
DTEND;TZID=Europe/London:20240522T180000
DTSTAMP:20260422T232916
CREATED:20240507T121641Z
LAST-MODIFIED:20240507T121641Z
UID:5122-1716381000-1716400800@hsw.co.uk
SUMMARY:Year 9 and 10 GCSE Drama Trip
DESCRIPTION:Current GCSE students in Year 10 as well as year 9s planning on taking Drama GCSE will be travelling to the West End to watch ‘People\, Places and Things’.
URL:https://hsw.co.uk/event/year-9-and-10-gcse-drama-trip/
CATEGORIES:KS3,KS4,Senior School
END:VEVENT
BEGIN:VEVENT
DTSTART;TZID=Europe/London:20240522T090000
DTEND;TZID=Europe/London:20240522T104500
DTSTAMP:20260422T232916
CREATED:20240117T133150Z
LAST-MODIFIED:20240119T154258Z
UID:4739-1716368400-1716374700@hsw.co.uk
SUMMARY:GCSE Physics Separate Paper 1
DESCRIPTION:1hr 45
URL:https://hsw.co.uk/event/gcse-physics-separate-paper-1/
CATEGORIES:KS4,Senior School
END:VEVENT
BEGIN:VEVENT
DTSTART;TZID=Europe/London:20240522T090000
DTEND;TZID=Europe/London:20240522T101500
DTSTAMP:20260422T232916
CREATED:20240117T133104Z
LAST-MODIFIED:20240119T154230Z
UID:4737-1716368400-1716372900@hsw.co.uk
SUMMARY:GCSE Physics Combined Paper 1
DESCRIPTION:1hr 15
URL:https://hsw.co.uk/event/gcse-physics-combined-paper-1/
CATEGORIES:KS4,Senior School
END:VEVENT
BEGIN:VEVENT
DTSTART;TZID=Europe/London:20240521T133000
DTEND;TZID=Europe/London:20240521T150000
DTSTAMP:20260422T232916
CREATED:20240117T133011Z
LAST-MODIFIED:20240117T133011Z
UID:4735-1716298200-1716303600@hsw.co.uk
SUMMARY:GCSE Computer Science Paper 2
DESCRIPTION:1hr 30
URL:https://hsw.co.uk/event/gcse-computer-science-paper-2/
CATEGORIES:KS4,Senior School
END:VEVENT
BEGIN:VEVENT
DTSTART;TZID=Europe/London:20240521T090000
DTEND;TZID=Europe/London:20240521T102000
DTSTAMP:20260422T232916
CREATED:20240117T132920Z
LAST-MODIFIED:20240119T154200Z
UID:4733-1716282000-1716286800@hsw.co.uk
SUMMARY:GCSE German Writing
DESCRIPTION:1hr 20
URL:https://hsw.co.uk/event/gcse-german-writing/
CATEGORIES:KS4,Senior School
END:VEVENT
END:VCALENDAR