BEGIN:VCALENDAR
VERSION:2.0
PRODID:-//Hall School Wimbledon - ECPv6.0.13.1//NONSGML v1.0//EN
CALSCALE:GREGORIAN
METHOD:PUBLISH
X-ORIGINAL-URL:https://hsw.co.uk
X-WR-CALDESC:Events for Hall School Wimbledon
REFRESH-INTERVAL;VALUE=DURATION:PT1H
X-Robots-Tag:noindex
X-PUBLISHED-TTL:PT1H
BEGIN:VTIMEZONE
TZID:Europe/London
BEGIN:DAYLIGHT
TZOFFSETFROM:+0000
TZOFFSETTO:+0100
TZNAME:BST
DTSTART:20260329T010000
END:DAYLIGHT
BEGIN:STANDARD
TZOFFSETFROM:+0100
TZOFFSETTO:+0000
TZNAME:GMT
DTSTART:20261025T010000
END:STANDARD
END:VTIMEZONE
BEGIN:VEVENT
DTSTART;VALUE=DATE:20260504
DTEND;VALUE=DATE:20260505
DTSTAMP:20260421T145448
CREATED:20260415T145947Z
LAST-MODIFIED:20260415T145947Z
UID:7754-1777852800-1777939199@hsw.co.uk
SUMMARY:Bank Holiday
DESCRIPTION:School closed for the day
URL:https://hsw.co.uk/event/bank-holiday-4/
CATEGORIES:Whole School
END:VEVENT
BEGIN:VEVENT
DTSTART;TZID=Europe/London:20260508T090000
DTEND;TZID=Europe/London:20260508T100000
DTSTAMP:20260421T145448
CREATED:20260415T150232Z
LAST-MODIFIED:20260415T150232Z
UID:7757-1778230800-1778234400@hsw.co.uk
SUMMARY:PTA Coffee Morning
DESCRIPTION:Held at Lu-Ma Cafe\, Wimbledon
URL:https://hsw.co.uk/event/pta-coffee-morning-3/
CATEGORIES:Whole School
END:VEVENT
BEGIN:VEVENT
DTSTART;VALUE=DATE:20260521
DTEND;VALUE=DATE:20260522
DTSTAMP:20260421T145448
CREATED:20260415T150355Z
LAST-MODIFIED:20260415T150355Z
UID:7759-1779321600-1779407999@hsw.co.uk
SUMMARY:Grease Performance @ Lantern Arts Centre
DESCRIPTION:Doors at 6pm\, show starts at 6.30pm
URL:https://hsw.co.uk/event/grease-performance-lantern-arts-centre/
CATEGORIES:Whole School
END:VEVENT
BEGIN:VEVENT
DTSTART;VALUE=DATE:20260522
DTEND;VALUE=DATE:20260523
DTSTAMP:20260421T145448
CREATED:20260415T150441Z
LAST-MODIFIED:20260415T150441Z
UID:7760-1779408000-1779494399@hsw.co.uk
SUMMARY:Grease Performance @ Lantern Arts Centre
DESCRIPTION:Doors at 6pm\, show starts at 6.30pm
URL:https://hsw.co.uk/event/grease-performance-lantern-arts-centre-2/
CATEGORIES:Whole School
END:VEVENT
BEGIN:VEVENT
DTSTART;VALUE=DATE:20260525
DTEND;VALUE=DATE:20260530
DTSTAMP:20260421T145448
CREATED:20241111T145627Z
LAST-MODIFIED:20241111T145627Z
UID:5902-1779667200-1780099199@hsw.co.uk
SUMMARY:Half Term
DESCRIPTION:
URL:https://hsw.co.uk/event/half-term-24/
CATEGORIES:Whole School
END:VEVENT
BEGIN:VEVENT
DTSTART;VALUE=DATE:20260525
DTEND;VALUE=DATE:20260526
DTSTAMP:20260421T145448
CREATED:20260415T150520Z
LAST-MODIFIED:20260415T150520Z
UID:7761-1779667200-1779753599@hsw.co.uk
SUMMARY:Bank Holiday
DESCRIPTION:
URL:https://hsw.co.uk/event/bank-holiday-5/
CATEGORIES:Whole School
END:VEVENT
END:VCALENDAR