BEGIN:VCALENDAR
VERSION:2.0
PRODID:-//Hall School Wimbledon - ECPv6.0.13.1//NONSGML v1.0//EN
CALSCALE:GREGORIAN
METHOD:PUBLISH
X-ORIGINAL-URL:https://hsw.co.uk
X-WR-CALDESC:Events for Hall School Wimbledon
REFRESH-INTERVAL;VALUE=DURATION:PT1H
X-Robots-Tag:noindex
X-PUBLISHED-TTL:PT1H
BEGIN:VTIMEZONE
TZID:Europe/London
BEGIN:DAYLIGHT
TZOFFSETFROM:+0000
TZOFFSETTO:+0100
TZNAME:BST
DTSTART:20250330T010000
END:DAYLIGHT
BEGIN:STANDARD
TZOFFSETFROM:+0100
TZOFFSETTO:+0000
TZNAME:GMT
DTSTART:20251026T010000
END:STANDARD
END:VTIMEZONE
BEGIN:VEVENT
DTSTART;TZID=Europe/London:20250604T090000
DTEND;TZID=Europe/London:20250604T150000
DTSTAMP:20260422T042950
CREATED:20250429T124223Z
LAST-MODIFIED:20250429T124710Z
UID:6431-1749027600-1749049200@hsw.co.uk
SUMMARY:Trip: Kew Gardens
DESCRIPTION:
URL:https://hsw.co.uk/event/trip-kew-gardens/
CATEGORIES:Junior School,Senior School,Whole School
END:VEVENT
BEGIN:VEVENT
DTSTART;TZID=Europe/London:20250607T090000
DTEND;TZID=Europe/London:20250607T093000
DTSTAMP:20260422T042950
CREATED:20250325T114341Z
LAST-MODIFIED:20250325T114341Z
UID:6343-1749286800-1749288600@hsw.co.uk
SUMMARY:Open Morning
DESCRIPTION:
URL:https://hsw.co.uk/event/open-morning-7/
END:VEVENT
BEGIN:VEVENT
DTSTART;TZID=Europe/London:20250612T180000
DTEND;TZID=Europe/London:20250613T193000
DTSTAMP:20260422T042950
CREATED:20250325T114130Z
LAST-MODIFIED:20250325T114130Z
UID:6339-1749751200-1749843000@hsw.co.uk
SUMMARY:Beauty & The Beast Performance
DESCRIPTION:The Lantern Arts Centre\, Raynes Park\, SW20 8RA.
URL:https://hsw.co.uk/event/beauty-the-beast-performance/
CATEGORIES:Whole School
END:VEVENT
BEGIN:VEVENT
DTSTART;VALUE=DATE:20250616
DTEND;VALUE=DATE:20250621
DTSTAMP:20260422T042950
CREATED:20240716T150735Z
LAST-MODIFIED:20240716T150735Z
UID:5445-1750032000-1750463999@hsw.co.uk
SUMMARY:Year 6 Bikeability
DESCRIPTION:
URL:https://hsw.co.uk/event/year-6-bikeability/
CATEGORIES:Junior School
END:VEVENT
BEGIN:VEVENT
DTSTART;TZID=Europe/London:20250617T090000
DTEND;TZID=Europe/London:20250617T093000
DTSTAMP:20260422T042950
CREATED:20250325T114248Z
LAST-MODIFIED:20250325T115413Z
UID:6341-1750150800-1750152600@hsw.co.uk
SUMMARY:Open Morning
DESCRIPTION:
URL:https://hsw.co.uk/event/open-morning-6/
END:VEVENT
BEGIN:VEVENT
DTSTART;TZID=Europe/London:20250619T163000
DTEND;TZID=Europe/London:20250619T190000
DTSTAMP:20260422T042950
CREATED:20240716T150813Z
LAST-MODIFIED:20240716T150813Z
UID:5447-1750350600-1750359600@hsw.co.uk
SUMMARY:Year 10 Parents Evening
DESCRIPTION:Times TBC
URL:https://hsw.co.uk/event/year-10-parents-evening-4/
CATEGORIES:KS4,Senior School
END:VEVENT
BEGIN:VEVENT
DTSTART;TZID=Europe/London:20250620T090000
DTEND;TZID=Europe/London:20250620T113000
DTSTAMP:20260422T042950
CREATED:20250429T123505Z
LAST-MODIFIED:20250429T123505Z
UID:6423-1750410000-1750419000@hsw.co.uk
SUMMARY:Year 9 Boys Workshop
DESCRIPTION:
URL:https://hsw.co.uk/event/year-9-boys-workshop/
CATEGORIES:KS3,Senior School
END:VEVENT
BEGIN:VEVENT
DTSTART;TZID=Europe/London:20250620T123000
DTEND;TZID=Europe/London:20250620T130000
DTSTAMP:20260422T042950
CREATED:20250429T123633Z
LAST-MODIFIED:20250429T123633Z
UID:6425-1750422600-1750424400@hsw.co.uk
SUMMARY:Year 7 Boys Workshop
DESCRIPTION:
URL:https://hsw.co.uk/event/year-7-boys-workshop/
CATEGORIES:KS3,Senior School
END:VEVENT
BEGIN:VEVENT
DTSTART;TZID=Europe/London:20250626T110000
DTEND;TZID=Europe/London:20250626T160000
DTSTAMP:20260422T042950
CREATED:20241015T142628Z
LAST-MODIFIED:20241015T142628Z
UID:5613-1750935600-1750953600@hsw.co.uk
SUMMARY:Years 7\, 8 and GCSE Drama Year 10 Theatre Trip
DESCRIPTION:Going to see My Neighbour Totoro in the West End – matinee
URL:https://hsw.co.uk/event/years-7-8-and-gcse-drama-year-10-theatre-trip/
CATEGORIES:KS3,KS4,Senior School
END:VEVENT
BEGIN:VEVENT
DTSTART;TZID=Europe/London:20250627T090000
DTEND;TZID=Europe/London:20250627T233000
DTSTAMP:20260422T042950
CREATED:20250429T123737Z
LAST-MODIFIED:20250429T123737Z
UID:6427-1751014800-1751067000@hsw.co.uk
SUMMARY:Year 7 - Year 10 Girls Workshop
DESCRIPTION:
URL:https://hsw.co.uk/event/year-7-year-10-girls-workshop/
CATEGORIES:KS3,KS4,Senior School
END:VEVENT
BEGIN:VEVENT
DTSTART;VALUE=DATE:20250630
DTEND;VALUE=DATE:20250705
DTSTAMP:20260422T042950
CREATED:20241015T135540Z
LAST-MODIFIED:20241015T135540Z
UID:5607-1751241600-1751673599@hsw.co.uk
SUMMARY:Challenge Week
DESCRIPTION:
URL:https://hsw.co.uk/event/challenge-week/
CATEGORIES:Junior School,KS3,KS4,KS5,Senior School
END:VEVENT
BEGIN:VEVENT
DTSTART;VALUE=DATE:20250630
DTEND;VALUE=DATE:20250705
DTSTAMP:20260422T042950
CREATED:20241015T135923Z
LAST-MODIFIED:20241015T135923Z
UID:5609-1751241600-1751673599@hsw.co.uk
SUMMARY:Year 10 Work Experience
DESCRIPTION:
URL:https://hsw.co.uk/event/year-10-work-experience/
CATEGORIES:KS4,Senior School
END:VEVENT
END:VCALENDAR